BEGIN:VCALENDAR
VERSION:2.0
PRODID:icalendar-ruby
CALSCALE:GREGORIAN
METHOD:PUBLISH
BEGIN:VEVENT
DTSTAMP:20260423T161352Z
UID:20-240588@stpaulsstratford.ca
DTSTART:20261025T150000Z
DTEND:20261025T160000Z
CLASS:PUBLIC
CREATED:20260423T103423
DESCRIPTION:Sunday Worship
LAST-MODIFIED:20260423T103423
LOCATION:St. Paul's Anglican Church
SUMMARY:Sunday Worship
URL;VALUE=URI:https://stpaulsstratford.ca/events/sunday-worship/2026-10-25
END:VEVENT
END:VCALENDAR
