BEGIN:VCALENDAR
VERSION:2.0
PRODID:icalendar-ruby
CALSCALE:GREGORIAN
METHOD:PUBLISH
BEGIN:VEVENT
DTSTAMP:20260423T145513Z
UID:20-240587@stpaulsstratford.ca
DTSTART:20261018T150000Z
DTEND:20261018T160000Z
CLASS:PUBLIC
CREATED:20260423T103423
DESCRIPTION:Sunday Worship
LAST-MODIFIED:20260423T103423
LOCATION:St. Paul's Anglican Church
SUMMARY:Sunday Worship
URL;VALUE=URI:https://stpaulsstratford.ca/events/sunday-worship/2026-10-18
END:VEVENT
END:VCALENDAR
