BEGIN:VCALENDAR
VERSION:2.0
PRODID:icalendar-ruby
CALSCALE:GREGORIAN
METHOD:PUBLISH
BEGIN:VEVENT
DTSTAMP:20260423T134520Z
UID:20-240430@stpaulsstratford.ca
DTSTART:20261011T150000Z
DTEND:20261011T160000Z
CLASS:PUBLIC
CREATED:20260423T074051
DESCRIPTION:Sunday Worship
LAST-MODIFIED:20260423T074051
LOCATION:St. Paul's Anglican Church
SUMMARY:Sunday Worship
URL;VALUE=URI:https://stpaulsstratford.ca/events/sunday-worship/2026-10-11
END:VEVENT
END:VCALENDAR
